BEGIN:VCALENDAR
VERSION:2.0
PRODID:-//ANR | Associação Nacional de Restaurantes - ECPv6.15.17.1//NONSGML v1.0//EN
CALSCALE:GREGORIAN
METHOD:PUBLISH
X-WR-CALNAME:ANR | Associação Nacional de Restaurantes
X-ORIGINAL-URL:https://anrbrasil.org.br
X-WR-CALDESC:Eventos para ANR | Associação Nacional de Restaurantes
REFRESH-INTERVAL;VALUE=DURATION:PT1H
X-Robots-Tag:noindex
X-PUBLISHED-TTL:PT1H
BEGIN:VTIMEZONE
TZID:America/Sao_Paulo
BEGIN:STANDARD
TZOFFSETFROM:-0300
TZOFFSETTO:-0300
TZNAME:-03
DTSTART:20230101T000000
END:STANDARD
END:VTIMEZONE
BEGIN:VEVENT
DTSTART;TZID=America/Sao_Paulo:20241022T130000
DTEND;TZID=America/Sao_Paulo:20241024T200000
DTSTAMP:20260419T172233
CREATED:20231218T191631Z
LAST-MODIFIED:20231218T191631Z
UID:19719-1729602000-1729800000@anrbrasil.org.br
SUMMARY:Seafood Brazil
DESCRIPTION:
URL:https://anrbrasil.org.br/agenda-eventos/seafood-brazil-2/
LOCATION:Anhembi
END:VEVENT
END:VCALENDAR