BEGIN:VCALENDAR
VERSION:2.0
PRODID:-//ANR | Associação Nacional de Restaurantes - ECPv6.15.17.1//NONSGML v1.0//EN
CALSCALE:GREGORIAN
METHOD:PUBLISH
X-WR-CALNAME:ANR | Associação Nacional de Restaurantes
X-ORIGINAL-URL:https://anrbrasil.org.br
X-WR-CALDESC:Eventos para ANR | Associação Nacional de Restaurantes
REFRESH-INTERVAL;VALUE=DURATION:PT1H
X-Robots-Tag:noindex
X-PUBLISHED-TTL:PT1H
BEGIN:VTIMEZONE
TZID:Europe/Paris
BEGIN:DAYLIGHT
TZOFFSETFROM:+0100
TZOFFSETTO:+0200
TZNAME:CEST
DTSTART:20230326T010000
END:DAYLIGHT
BEGIN:STANDARD
TZOFFSETFROM:+0200
TZOFFSETTO:+0100
TZNAME:CET
DTSTART:20231029T010000
END:STANDARD
BEGIN:DAYLIGHT
TZOFFSETFROM:+0100
TZOFFSETTO:+0200
TZNAME:CEST
DTSTART:20240331T010000
END:DAYLIGHT
BEGIN:STANDARD
TZOFFSETFROM:+0200
TZOFFSETTO:+0100
TZNAME:CET
DTSTART:20241027T010000
END:STANDARD
BEGIN:DAYLIGHT
TZOFFSETFROM:+0100
TZOFFSETTO:+0200
TZNAME:CEST
DTSTART:20250330T010000
END:DAYLIGHT
BEGIN:STANDARD
TZOFFSETFROM:+0200
TZOFFSETTO:+0100
TZNAME:CET
DTSTART:20251026T010000
END:STANDARD
END:VTIMEZONE
BEGIN:VEVENT
DTSTART;TZID=Europe/Paris:20241019T100000
DTEND;TZID=Europe/Paris:20241023T183000
DTSTAMP:20260419T065758
CREATED:20231218T191208Z
LAST-MODIFIED:20231218T191359Z
UID:19714-1729332000-1729708200@anrbrasil.org.br
SUMMARY:Sial Paris
DESCRIPTION:The world’s largest food innovation exhibition.
URL:https://anrbrasil.org.br/agenda-eventos/sial-paris/
LOCATION:Parc des Expositions de Paris
END:VEVENT
END:VCALENDAR