BEGIN:VCALENDAR
VERSION:2.0
PRODID:-//ANR | Associação Nacional de Restaurantes - ECPv6.15.17.1//NONSGML v1.0//EN
CALSCALE:GREGORIAN
METHOD:PUBLISH
X-ORIGINAL-URL:https://anrbrasil.org.br
X-WR-CALDESC:Eventos para ANR | Associação Nacional de Restaurantes
REFRESH-INTERVAL;VALUE=DURATION:PT1H
X-Robots-Tag:noindex
X-PUBLISHED-TTL:PT1H
BEGIN:VTIMEZONE
TZID:America/Sao_Paulo
BEGIN:STANDARD
TZOFFSETFROM:-0300
TZOFFSETTO:-0300
TZNAME:-03
DTSTART:20230101T000000
END:STANDARD
END:VTIMEZONE
BEGIN:VEVENT
DTSTART;TZID=America/Sao_Paulo:20241008T080000
DTEND;TZID=America/Sao_Paulo:20241009T180000
DTSTAMP:20260419T172517
CREATED:20231218T190941Z
LAST-MODIFIED:20240708T192217Z
UID:19712-1728374400-1728496800@anrbrasil.org.br
SUMMARY:Bconnected
DESCRIPTION:​O MELHOR EVENTO DE GESTÃO DE REDES DE NEGÓCIOS\, VAREJO E FRANCHISING DA AMÉRICA LATINA ESTÁ DE VOLTA!\nEm sua 13ª edição\, o BConnected entrega mais do que palestras interessantes\, ele entrega na prática a execução das estratégias das empresas que mais têm se destacado no cenário nacional e internacional contadas por seus top executivos. \nVenha se relacionar com um público altamente qualificado de C-Levels\, gestores e tomadores de decisão\, em um evento repleto de experiências e infotainment (conteúdo e muito entretenimento). \nAlém de trazer cases\, tendências e o que de mais contemporâneo tem sido discutido no mundo dos negócios para inspiração e reflexão dos participantes.
URL:https://anrbrasil.org.br/agenda-eventos/bconnected-2/
LOCATION:Teatro Santander
ATTACH;FMTTYPE=image/png:https://anrbrasil.org.br/wp-content/uploads/2023/12/bg-bconnected2024-1920x1080-1.png
END:VEVENT
END:VCALENDAR