BEGIN:VCALENDAR
VERSION:2.0
PRODID:-//ANR | Associação Nacional de Restaurantes - ECPv6.15.17.1//NONSGML v1.0//EN
CALSCALE:GREGORIAN
METHOD:PUBLISH
X-ORIGINAL-URL:https://anrbrasil.org.br
X-WR-CALDESC:Eventos para ANR | Associação Nacional de Restaurantes
REFRESH-INTERVAL;VALUE=DURATION:PT1H
X-Robots-Tag:noindex
X-PUBLISHED-TTL:PT1H
BEGIN:VTIMEZONE
TZID:America/Sao_Paulo
BEGIN:STANDARD
TZOFFSETFROM:-0300
TZOFFSETTO:-0300
TZNAME:-03
DTSTART:20230101T000000
END:STANDARD
END:VTIMEZONE
BEGIN:VEVENT
DTSTART;TZID=America/Sao_Paulo:20241001T120000
DTEND;TZID=America/Sao_Paulo:20241003T190000
DTSTAMP:20260419T172357
CREATED:20231110T151510Z
LAST-MODIFIED:20231110T152130Z
UID:19542-1727784000-1727982000@anrbrasil.org.br
SUMMARY:Pro Wine
DESCRIPTION:A MAIOR E PRINCIPAL FEIRA PROFISSIONAL DE VINHOS E DESTILADOS DAS AMÉRICAS\nA ProWine São Paulo acontecerá de 01 a 03 de outubro de 2024 das 12:00 às 19:00 no Expo Center Norte. \nO evento é focado no segmento B2B para a geração de negócios e desenvolvimento da indústria. As inscrições são EXCLUSIVAS para profissionais do setor.
URL:https://anrbrasil.org.br/agenda-eventos/pro-wine/
LOCATION:Expo Center Norte\, Rua José Bernardo Pinto\, 333\, São Paulo\, Brazil
ATTACH;FMTTYPE=image/webp:https://anrbrasil.org.br/wp-content/uploads/2023/11/OLB_1916-scaled.webp
END:VEVENT
END:VCALENDAR